BEGIN:VCALENDAR
VERSION:2.0
PRODID:-//Silver Spring Village - ECPv6.15.20//NONSGML v1.0//EN
CALSCALE:GREGORIAN
METHOD:PUBLISH
X-ORIGINAL-URL:https://silverspringvillage.org
X-WR-CALDESC:Events for Silver Spring Village
REFRESH-INTERVAL;VALUE=DURATION:PT1H
X-Robots-Tag:noindex
X-PUBLISHED-TTL:PT1H
BEGIN:VTIMEZONE
TZID:America/New_York
BEGIN:DAYLIGHT
TZOFFSETFROM:-0500
TZOFFSETTO:-0400
TZNAME:EDT
DTSTART:20240310T070000
END:DAYLIGHT
BEGIN:STANDARD
TZOFFSETFROM:-0400
TZOFFSETTO:-0500
TZNAME:EST
DTSTART:20241103T060000
END:STANDARD
BEGIN:DAYLIGHT
TZOFFSETFROM:-0500
TZOFFSETTO:-0400
TZNAME:EDT
DTSTART:20250309T070000
END:DAYLIGHT
BEGIN:STANDARD
TZOFFSETFROM:-0400
TZOFFSETTO:-0500
TZNAME:EST
DTSTART:20251102T060000
END:STANDARD
BEGIN:DAYLIGHT
TZOFFSETFROM:-0500
TZOFFSETTO:-0400
TZNAME:EDT
DTSTART:20260308T070000
END:DAYLIGHT
BEGIN:STANDARD
TZOFFSETFROM:-0400
TZOFFSETTO:-0500
TZNAME:EST
DTSTART:20261101T060000
END:STANDARD
END:VTIMEZONE
BEGIN:VEVENT
DTSTART;TZID=America/New_York:20251214T133000
DTEND;TZID=America/New_York:20251214T160000
DTSTAMP:20260425T083632
CREATED:20251113T181122Z
LAST-MODIFIED:20251113T181823Z
UID:10010130-1765719000-1765728000@silverspringvillage.org
SUMMARY:Django Jazz
DESCRIPTION:Enjoy a Sunday afternoon of Django-Reinhardt-style “gypsy jazz”\, sponsored by the Potomac River Jazz Club (PRJC). Performing will be Djangolaya in Rosensteel Hall. \nFor information about the band\, check out https://djangolaya.com/   To see one of their performances online\, go to \n\nPRJC members $20\, General admission $25; $22.50 in advance. Advance ticketing may become available at prjc.org. Food and drink are available for sale at the venue. \nRosensteel Hall is at 9707 Rosensteel Ave.\, in Silver Spring. Rosensteel Ave. intersects Forest Glen Road between Georgia Ave. and Seminary Road.
URL:https://silverspringvillage.org/calendar/django-jazz/
ATTACH;FMTTYPE=image/png:https://silverspringvillage.org/wp-content/uploads/2025/11/djangolaya.png
END:VEVENT
END:VCALENDAR