BEGIN:VCALENDAR
VERSION:2.0
PRODID:-//Silver Spring Village - ECPv6.15.20//NONSGML v1.0//EN
CALSCALE:GREGORIAN
METHOD:PUBLISH
X-ORIGINAL-URL:https://silverspringvillage.org
X-WR-CALDESC:Events for Silver Spring Village
REFRESH-INTERVAL;VALUE=DURATION:PT1H
X-Robots-Tag:noindex
X-PUBLISHED-TTL:PT1H
BEGIN:VTIMEZONE
TZID:America/New_York
BEGIN:DAYLIGHT
TZOFFSETFROM:-0500
TZOFFSETTO:-0400
TZNAME:EDT
DTSTART:20250309T070000
END:DAYLIGHT
BEGIN:STANDARD
TZOFFSETFROM:-0400
TZOFFSETTO:-0500
TZNAME:EST
DTSTART:20251102T060000
END:STANDARD
BEGIN:DAYLIGHT
TZOFFSETFROM:-0500
TZOFFSETTO:-0400
TZNAME:EDT
DTSTART:20260308T070000
END:DAYLIGHT
BEGIN:STANDARD
TZOFFSETFROM:-0400
TZOFFSETTO:-0500
TZNAME:EST
DTSTART:20261101T060000
END:STANDARD
BEGIN:DAYLIGHT
TZOFFSETFROM:-0500
TZOFFSETTO:-0400
TZNAME:EDT
DTSTART:20270314T070000
END:DAYLIGHT
BEGIN:STANDARD
TZOFFSETFROM:-0400
TZOFFSETTO:-0500
TZNAME:EST
DTSTART:20271107T060000
END:STANDARD
END:VTIMEZONE
BEGIN:VEVENT
DTSTART;TZID=America/New_York:20260401T100000
DTEND;TZID=America/New_York:20260401T113000
DTSTAMP:20260423T172250
CREATED:20260216T161441Z
LAST-MODIFIED:20260216T161441Z
UID:10007780-1775037600-1775043000@silverspringvillage.org
SUMMARY:Walk in Sligo Park
DESCRIPTION:We’re getting out together\, taking weekly walks in Sligo Creek Park!  Weather permitting\, we’ll meet Wednesday mornings at 10:00 at locations which will be announced by email one or two days ahead of the walk. The walks will typically be 2 to 3 miles round-trip. \nSee you there! \nFor further members-only details or to register\, log into your member account and visit the Calendar page.
URL:https://silverspringvillage.org/calendar/walk-in-sligo-park-2/2026-04-01/
CATEGORIES:Recreational,Social
ATTACH;FMTTYPE=image/png:https://silverspringvillage.org/wp-content/uploads/2025/06/19.png
END:VEVENT
BEGIN:VEVENT
DTSTART;TZID=America/New_York:20260401T160000
DTEND;TZID=America/New_York:20260401T173000
DTSTAMP:20260423T172250
CREATED:20240728T163204Z
LAST-MODIFIED:20250619T173939Z
UID:10004799-1775059200-1775064600@silverspringvillage.org
SUMMARY:Poker Dawgs
DESCRIPTION:For further members-only details or to register\, log into your member account and visit the Calendar page. \n  \n\n\n\n\n\n\n\n 
URL:https://silverspringvillage.org/calendar/poker-dawgs/2026-04-01/
CATEGORIES:Recreational,Social
ATTACH;FMTTYPE=image/png:https://silverspringvillage.org/wp-content/uploads/2025/06/12.png
END:VEVENT
END:VCALENDAR