BEGIN:VCALENDAR
VERSION:2.0
PRODID:-//Silver Spring Village - ECPv6.15.20//NONSGML v1.0//EN
CALSCALE:GREGORIAN
METHOD:PUBLISH
X-WR-CALNAME:Silver Spring Village
X-ORIGINAL-URL:https://silverspringvillage.org
X-WR-CALDESC:Events for Silver Spring Village
REFRESH-INTERVAL;VALUE=DURATION:PT1H
X-Robots-Tag:noindex
X-PUBLISHED-TTL:PT1H
BEGIN:VTIMEZONE
TZID:America/New_York
BEGIN:DAYLIGHT
TZOFFSETFROM:-0500
TZOFFSETTO:-0400
TZNAME:EDT
DTSTART:20250309T070000
END:DAYLIGHT
BEGIN:STANDARD
TZOFFSETFROM:-0400
TZOFFSETTO:-0500
TZNAME:EST
DTSTART:20251102T060000
END:STANDARD
BEGIN:DAYLIGHT
TZOFFSETFROM:-0500
TZOFFSETTO:-0400
TZNAME:EDT
DTSTART:20260308T070000
END:DAYLIGHT
BEGIN:STANDARD
TZOFFSETFROM:-0400
TZOFFSETTO:-0500
TZNAME:EST
DTSTART:20261101T060000
END:STANDARD
BEGIN:DAYLIGHT
TZOFFSETFROM:-0500
TZOFFSETTO:-0400
TZNAME:EDT
DTSTART:20270314T070000
END:DAYLIGHT
BEGIN:STANDARD
TZOFFSETFROM:-0400
TZOFFSETTO:-0500
TZNAME:EST
DTSTART:20271107T060000
END:STANDARD
END:VTIMEZONE
BEGIN:VEVENT
DTSTART;TZID=America/New_York:20260423T130000
DTEND;TZID=America/New_York:20260423T160000
DTSTAMP:20260423T171528
CREATED:20251218T194130Z
LAST-MODIFIED:20251218T194130Z
UID:10002882-1776949200-1776960000@silverspringvillage.org
SUMMARY:Rummikub (in person)
DESCRIPTION:Build your circle of friends  by playing this game that is easy to learn and fast moving combining tactical thinking\, luck\, and competition.  We will play the 1st\, 2nd\, and 4th Thursdays of each month from 1 to 4pm at Cynna Janus’s house. Beginners are welcome. For further members-only details or to register\, log into your member account and visit the Calendar page. \n\n\n\n\n\n\n\n 
URL:https://silverspringvillage.org/calendar/rummikub-in-person-2-2/2026-04-23/
CATEGORIES:Recreational,Social
ATTACH;FMTTYPE=image/png:https://silverspringvillage.org/wp-content/uploads/2025/06/30.png
END:VEVENT
BEGIN:VEVENT
DTSTART;TZID=America/New_York:20260423T113000
DTEND;TZID=America/New_York:20260423T140000
DTSTAMP:20260423T171528
CREATED:20240728T155658Z
LAST-MODIFIED:20251113T182941Z
UID:10002100-1776943800-1776952800@silverspringvillage.org
SUMMARY:Chess
DESCRIPTION:Every Thursday at 11:30\, members will get together for lunch and to play chess at a local restaurant. For further members-only details or to register\, log into your member account and visit the Calendar page. \n\n\n\n\n\nAttendees pay for their own charges\n\n\n\n\n\n\n 
URL:https://silverspringvillage.org/calendar/chess/2026-04-23/
CATEGORIES:Recreational,Social
ATTACH;FMTTYPE=image/png:https://silverspringvillage.org/wp-content/uploads/2025/06/31.png
END:VEVENT
BEGIN:VEVENT
DTSTART;TZID=America/New_York:20260422T100000
DTEND;TZID=America/New_York:20260422T113000
DTSTAMP:20260423T171528
CREATED:20260216T161441Z
LAST-MODIFIED:20260216T161441Z
UID:10007783-1776852000-1776857400@silverspringvillage.org
SUMMARY:Walk in Sligo Park
DESCRIPTION:We’re getting out together\, taking weekly walks in Sligo Creek Park!  Weather permitting\, we’ll meet Wednesday mornings at 10:00 at locations which will be announced by email one or two days ahead of the walk. The walks will typically be 2 to 3 miles round-trip. \nSee you there! \nFor further members-only details or to register\, log into your member account and visit the Calendar page.
URL:https://silverspringvillage.org/calendar/walk-in-sligo-park-2/2026-04-22/
CATEGORIES:Recreational,Social
ATTACH;FMTTYPE=image/png:https://silverspringvillage.org/wp-content/uploads/2025/06/19.png
END:VEVENT
BEGIN:VEVENT
DTSTART;TZID=America/New_York:20260421T140000
DTEND;TZID=America/New_York:20260421T160000
DTSTAMP:20260423T171528
CREATED:20251022T152310Z
LAST-MODIFIED:20260126T181646Z
UID:10000935-1776780000-1776787200@silverspringvillage.org
SUMMARY:Bridge
DESCRIPTION:Friendly game with experienced but not cut-throat players. Perfect if you played in college and want to get back into it. From one to three games per week depending on player availability; locations depend on who’s playing. Weekly schedule is usually finalized every Friday. \nFor further members-only details or to register\, log into your member account and visit the Calendar page. \n  \n 
URL:https://silverspringvillage.org/calendar/bridge-2-2-2/2026-04-21/
CATEGORIES:Recreational,Social
ATTACH;FMTTYPE=image/png:https://silverspringvillage.org/wp-content/uploads/2025/10/Bridge-Game-2-1.png
END:VEVENT
BEGIN:VEVENT
DTSTART;TZID=America/New_York:20260421T130000
DTEND;TZID=America/New_York:20260421T160000
DTSTAMP:20260423T171528
CREATED:20240728T151644Z
LAST-MODIFIED:20250619T174558Z
UID:10000674-1776776400-1776787200@silverspringvillage.org
SUMMARY:Canasta
DESCRIPTION:The Silver Spring Village Canasta Club will meet in person every Tuesday from 1:00 to 4:00 pm. \nThe club is open to players at all levels including beginning.  New members are actively being sought. \nFor further members-only details or to register\, log into your member account and visit the Calendar page. \n 
URL:https://silverspringvillage.org/calendar/canasta/2026-04-21/
CATEGORIES:Recreational,Social
ATTACH;FMTTYPE=image/png:https://silverspringvillage.org/wp-content/uploads/2025/06/26.png
END:VEVENT
BEGIN:VEVENT
DTSTART;TZID=America/New_York:20260420T150000
DTEND;TZID=America/New_York:20260420T170000
DTSTAMP:20260423T171528
CREATED:20240728T150430Z
LAST-MODIFIED:20250619T174644Z
UID:10000353-1776697200-1776704400@silverspringvillage.org
SUMMARY:Scrabble
DESCRIPTION:Join fellow word lovers every Monday\, 3-5 p.m. at for a friendly game of Scrabble at one of our favorite neighborhood restaurants. Enjoy great food\, good company\, and a little wordplay—no experience necessary! Come for the game\, stay for the laughs.  Attendees pay for their own charges. \n\n\nFor members-only details or to register\, log into your member account and visit the Calendar page.Considering Village membership and want to sample an event? Call our Operations Manager at 240-307-4132.\n\n\n 
URL:https://silverspringvillage.org/calendar/scrabble/2026-04-20/
CATEGORIES:Recreational,Social
ATTACH;FMTTYPE=image/png:https://silverspringvillage.org/wp-content/uploads/2025/06/21.png
END:VEVENT
BEGIN:VEVENT
DTSTART;TZID=America/New_York:20260420T140000
DTEND;TZID=America/New_York:20260420T160000
DTSTAMP:20260423T171528
CREATED:20251022T152310Z
LAST-MODIFIED:20260126T181646Z
UID:10000092-1776693600-1776700800@silverspringvillage.org
SUMMARY:Bridge
DESCRIPTION:Friendly game with experienced but not cut-throat players. Perfect if you played in college and want to get back into it. From one to three games per week depending on player availability; locations depend on who’s playing. Weekly schedule is usually finalized every Friday. \nFor further members-only details or to register\, log into your member account and visit the Calendar page. \n  \n 
URL:https://silverspringvillage.org/calendar/bridge-2-2-2/2026-04-20/
CATEGORIES:Recreational,Social
ATTACH;FMTTYPE=image/png:https://silverspringvillage.org/wp-content/uploads/2025/10/Bridge-Game-2-1.png
END:VEVENT
BEGIN:VEVENT
DTSTART;TZID=America/New_York:20260417T140000
DTEND;TZID=America/New_York:20260417T160000
DTSTAMP:20260423T171528
CREATED:20251022T152310Z
LAST-MODIFIED:20260126T181646Z
UID:10003845-1776434400-1776441600@silverspringvillage.org
SUMMARY:Bridge
DESCRIPTION:Friendly game with experienced but not cut-throat players. Perfect if you played in college and want to get back into it. From one to three games per week depending on player availability; locations depend on who’s playing. Weekly schedule is usually finalized every Friday. \nFor further members-only details or to register\, log into your member account and visit the Calendar page. \n  \n 
URL:https://silverspringvillage.org/calendar/bridge-2-2-2/2026-04-17/
CATEGORIES:Recreational,Social
ATTACH;FMTTYPE=image/png:https://silverspringvillage.org/wp-content/uploads/2025/10/Bridge-Game-2-1.png
END:VEVENT
BEGIN:VEVENT
DTSTART;TZID=America/New_York:20260417T130000
DTEND;TZID=America/New_York:20260417T160000
DTSTAMP:20260423T171528
CREATED:20251022T155743Z
LAST-MODIFIED:20251022T155743Z
UID:10003584-1776430800-1776441600@silverspringvillage.org
SUMMARY:Mahjongg
DESCRIPTION:There’s a weekly Village mahjongg game\, every Friday at 1 to 4pm in a member’s home. For further members-only details or to register\, log into your member account and visit the Calendar page. \nExperienced players only\, please. \n\n\n\n\n\n\n\n 
URL:https://silverspringvillage.org/calendar/mahjongg-2/2026-04-17/
CATEGORIES:Recreational,Social
ATTACH;FMTTYPE=image/png:https://silverspringvillage.org/wp-content/uploads/2025/06/27.png
END:VEVENT
BEGIN:VEVENT
DTSTART;TZID=America/New_York:20260417T120000
DTEND;TZID=America/New_York:20260417T131500
DTSTAMP:20260423T171528
CREATED:20250319T180424Z
LAST-MODIFIED:20251022T150212Z
UID:10003322-1776427200-1776431700@silverspringvillage.org
SUMMARY:Yoga
DESCRIPTION:The weekly yoga class meets every Friday from 12:00 – 1:15 pm via Zoom. It is an all levels class appropriate for beginners as well as those with more experience. The class leader (Cheryl) has been practicing yoga since the 1980’s and teaching since the mid- 1990’s. \nFor further members-only details or to register\, log into your member account and visit the Calendar page. \n 
URL:https://silverspringvillage.org/calendar/yoga-2/2026-04-17/
CATEGORIES:Recreational,Virtual Event
ATTACH;FMTTYPE=image/png:https://silverspringvillage.org/wp-content/uploads/2025/06/28.png
LOCATION:
END:VEVENT
BEGIN:VEVENT
DTSTART;TZID=America/New_York:20260416T130000
DTEND;TZID=America/New_York:20260416T160000
DTSTAMP:20260423T171528
CREATED:20251218T194130Z
LAST-MODIFIED:20251218T194130Z
UID:10002881-1776344400-1776355200@silverspringvillage.org
SUMMARY:Rummikub (in person)
DESCRIPTION:Build your circle of friends  by playing this game that is easy to learn and fast moving combining tactical thinking\, luck\, and competition.  We will play the 1st\, 2nd\, and 4th Thursdays of each month from 1 to 4pm at Cynna Janus’s house. Beginners are welcome. For further members-only details or to register\, log into your member account and visit the Calendar page. \n\n\n\n\n\n\n\n 
URL:https://silverspringvillage.org/calendar/rummikub-in-person-2-2/2026-04-16/
CATEGORIES:Recreational,Social
ATTACH;FMTTYPE=image/png:https://silverspringvillage.org/wp-content/uploads/2025/06/30.png
END:VEVENT
BEGIN:VEVENT
DTSTART;TZID=America/New_York:20260416T113000
DTEND;TZID=America/New_York:20260416T140000
DTSTAMP:20260423T171528
CREATED:20240728T155658Z
LAST-MODIFIED:20251113T182941Z
UID:10002099-1776339000-1776348000@silverspringvillage.org
SUMMARY:Chess
DESCRIPTION:Every Thursday at 11:30\, members will get together for lunch and to play chess at a local restaurant. For further members-only details or to register\, log into your member account and visit the Calendar page. \n\n\n\n\n\nAttendees pay for their own charges\n\n\n\n\n\n\n 
URL:https://silverspringvillage.org/calendar/chess/2026-04-16/
CATEGORIES:Recreational,Social
ATTACH;FMTTYPE=image/png:https://silverspringvillage.org/wp-content/uploads/2025/06/31.png
END:VEVENT
BEGIN:VEVENT
DTSTART;TZID=America/New_York:20260415T160000
DTEND;TZID=America/New_York:20260415T173000
DTSTAMP:20260423T171528
CREATED:20240728T163235Z
LAST-MODIFIED:20250619T173611Z
UID:10004919-1776268800-1776274200@silverspringvillage.org
SUMMARY:Poker Dawgs
DESCRIPTION:To find out details about playing poker with the Poker Dawgs. \nFor further members-only details or to register\, log into your member account and visit the Calendar page. \n\n\n\n\n\n\n\n 
URL:https://silverspringvillage.org/calendar/poker-dawgs-2/2026-04-15/
CATEGORIES:Recreational,Social
ATTACH;FMTTYPE=image/png:https://silverspringvillage.org/wp-content/uploads/2025/06/12.png
END:VEVENT
BEGIN:VEVENT
DTSTART;TZID=America/New_York:20260415T100000
DTEND;TZID=America/New_York:20260415T113000
DTSTAMP:20260423T171528
CREATED:20260216T161441Z
LAST-MODIFIED:20260216T161441Z
UID:10007782-1776247200-1776252600@silverspringvillage.org
SUMMARY:Walk in Sligo Park
DESCRIPTION:We’re getting out together\, taking weekly walks in Sligo Creek Park!  Weather permitting\, we’ll meet Wednesday mornings at 10:00 at locations which will be announced by email one or two days ahead of the walk. The walks will typically be 2 to 3 miles round-trip. \nSee you there! \nFor further members-only details or to register\, log into your member account and visit the Calendar page.
URL:https://silverspringvillage.org/calendar/walk-in-sligo-park-2/2026-04-15/
CATEGORIES:Recreational,Social
ATTACH;FMTTYPE=image/png:https://silverspringvillage.org/wp-content/uploads/2025/06/19.png
END:VEVENT
BEGIN:VEVENT
DTSTART;TZID=America/New_York:20260414T140000
DTEND;TZID=America/New_York:20260414T160000
DTSTAMP:20260423T171528
CREATED:20251022T152310Z
LAST-MODIFIED:20260126T181646Z
UID:10000934-1776175200-1776182400@silverspringvillage.org
SUMMARY:Bridge
DESCRIPTION:Friendly game with experienced but not cut-throat players. Perfect if you played in college and want to get back into it. From one to three games per week depending on player availability; locations depend on who’s playing. Weekly schedule is usually finalized every Friday. \nFor further members-only details or to register\, log into your member account and visit the Calendar page. \n  \n 
URL:https://silverspringvillage.org/calendar/bridge-2-2-2/2026-04-14/
CATEGORIES:Recreational,Social
ATTACH;FMTTYPE=image/png:https://silverspringvillage.org/wp-content/uploads/2025/10/Bridge-Game-2-1.png
END:VEVENT
BEGIN:VEVENT
DTSTART;TZID=America/New_York:20260414T130000
DTEND;TZID=America/New_York:20260414T160000
DTSTAMP:20260423T171528
CREATED:20240728T151644Z
LAST-MODIFIED:20250619T174558Z
UID:10000673-1776171600-1776182400@silverspringvillage.org
SUMMARY:Canasta
DESCRIPTION:The Silver Spring Village Canasta Club will meet in person every Tuesday from 1:00 to 4:00 pm. \nThe club is open to players at all levels including beginning.  New members are actively being sought. \nFor further members-only details or to register\, log into your member account and visit the Calendar page. \n 
URL:https://silverspringvillage.org/calendar/canasta/2026-04-14/
CATEGORIES:Recreational,Social
ATTACH;FMTTYPE=image/png:https://silverspringvillage.org/wp-content/uploads/2025/06/26.png
END:VEVENT
BEGIN:VEVENT
DTSTART;TZID=America/New_York:20260413T150000
DTEND;TZID=America/New_York:20260413T170000
DTSTAMP:20260423T171528
CREATED:20240728T150430Z
LAST-MODIFIED:20250619T174644Z
UID:10000352-1776092400-1776099600@silverspringvillage.org
SUMMARY:Scrabble
DESCRIPTION:Join fellow word lovers every Monday\, 3-5 p.m. at for a friendly game of Scrabble at one of our favorite neighborhood restaurants. Enjoy great food\, good company\, and a little wordplay—no experience necessary! Come for the game\, stay for the laughs.  Attendees pay for their own charges. \n\n\nFor members-only details or to register\, log into your member account and visit the Calendar page.Considering Village membership and want to sample an event? Call our Operations Manager at 240-307-4132.\n\n\n 
URL:https://silverspringvillage.org/calendar/scrabble/2026-04-13/
CATEGORIES:Recreational,Social
ATTACH;FMTTYPE=image/png:https://silverspringvillage.org/wp-content/uploads/2025/06/21.png
END:VEVENT
BEGIN:VEVENT
DTSTART;TZID=America/New_York:20260413T140000
DTEND;TZID=America/New_York:20260413T160000
DTSTAMP:20260423T171528
CREATED:20251022T152310Z
LAST-MODIFIED:20260126T181646Z
UID:10000091-1776088800-1776096000@silverspringvillage.org
SUMMARY:Bridge
DESCRIPTION:Friendly game with experienced but not cut-throat players. Perfect if you played in college and want to get back into it. From one to three games per week depending on player availability; locations depend on who’s playing. Weekly schedule is usually finalized every Friday. \nFor further members-only details or to register\, log into your member account and visit the Calendar page. \n  \n 
URL:https://silverspringvillage.org/calendar/bridge-2-2-2/2026-04-13/
CATEGORIES:Recreational,Social
ATTACH;FMTTYPE=image/png:https://silverspringvillage.org/wp-content/uploads/2025/10/Bridge-Game-2-1.png
END:VEVENT
BEGIN:VEVENT
DTSTART;TZID=America/New_York:20260410T140000
DTEND;TZID=America/New_York:20260410T160000
DTSTAMP:20260423T171528
CREATED:20251022T152310Z
LAST-MODIFIED:20260126T181646Z
UID:10003844-1775829600-1775836800@silverspringvillage.org
SUMMARY:Bridge
DESCRIPTION:Friendly game with experienced but not cut-throat players. Perfect if you played in college and want to get back into it. From one to three games per week depending on player availability; locations depend on who’s playing. Weekly schedule is usually finalized every Friday. \nFor further members-only details or to register\, log into your member account and visit the Calendar page. \n  \n 
URL:https://silverspringvillage.org/calendar/bridge-2-2-2/2026-04-10/
CATEGORIES:Recreational,Social
ATTACH;FMTTYPE=image/png:https://silverspringvillage.org/wp-content/uploads/2025/10/Bridge-Game-2-1.png
END:VEVENT
BEGIN:VEVENT
DTSTART;TZID=America/New_York:20260410T130000
DTEND;TZID=America/New_York:20260410T160000
DTSTAMP:20260423T171528
CREATED:20251022T155743Z
LAST-MODIFIED:20251022T155743Z
UID:10003583-1775826000-1775836800@silverspringvillage.org
SUMMARY:Mahjongg
DESCRIPTION:There’s a weekly Village mahjongg game\, every Friday at 1 to 4pm in a member’s home. For further members-only details or to register\, log into your member account and visit the Calendar page. \nExperienced players only\, please. \n\n\n\n\n\n\n\n 
URL:https://silverspringvillage.org/calendar/mahjongg-2/2026-04-10/
CATEGORIES:Recreational,Social
ATTACH;FMTTYPE=image/png:https://silverspringvillage.org/wp-content/uploads/2025/06/27.png
END:VEVENT
BEGIN:VEVENT
DTSTART;TZID=America/New_York:20260410T120000
DTEND;TZID=America/New_York:20260410T131500
DTSTAMP:20260423T171528
CREATED:20250319T180424Z
LAST-MODIFIED:20251022T150212Z
UID:10003321-1775822400-1775826900@silverspringvillage.org
SUMMARY:Yoga
DESCRIPTION:The weekly yoga class meets every Friday from 12:00 – 1:15 pm via Zoom. It is an all levels class appropriate for beginners as well as those with more experience. The class leader (Cheryl) has been practicing yoga since the 1980’s and teaching since the mid- 1990’s. \nFor further members-only details or to register\, log into your member account and visit the Calendar page. \n 
URL:https://silverspringvillage.org/calendar/yoga-2/2026-04-10/
CATEGORIES:Recreational,Virtual Event
ATTACH;FMTTYPE=image/png:https://silverspringvillage.org/wp-content/uploads/2025/06/28.png
LOCATION:
END:VEVENT
BEGIN:VEVENT
DTSTART;TZID=America/New_York:20260409T130000
DTEND;TZID=America/New_York:20260409T160000
DTSTAMP:20260423T171528
CREATED:20251218T194130Z
LAST-MODIFIED:20251218T194130Z
UID:10002880-1775739600-1775750400@silverspringvillage.org
SUMMARY:Rummikub (in person)
DESCRIPTION:Build your circle of friends  by playing this game that is easy to learn and fast moving combining tactical thinking\, luck\, and competition.  We will play the 1st\, 2nd\, and 4th Thursdays of each month from 1 to 4pm at Cynna Janus’s house. Beginners are welcome. For further members-only details or to register\, log into your member account and visit the Calendar page. \n\n\n\n\n\n\n\n 
URL:https://silverspringvillage.org/calendar/rummikub-in-person-2-2/2026-04-09/
CATEGORIES:Recreational,Social
ATTACH;FMTTYPE=image/png:https://silverspringvillage.org/wp-content/uploads/2025/06/30.png
END:VEVENT
BEGIN:VEVENT
DTSTART;TZID=America/New_York:20260409T113000
DTEND;TZID=America/New_York:20260409T140000
DTSTAMP:20260423T171528
CREATED:20240728T155658Z
LAST-MODIFIED:20251113T182941Z
UID:10002098-1775734200-1775743200@silverspringvillage.org
SUMMARY:Chess
DESCRIPTION:Every Thursday at 11:30\, members will get together for lunch and to play chess at a local restaurant. For further members-only details or to register\, log into your member account and visit the Calendar page. \n\n\n\n\n\nAttendees pay for their own charges\n\n\n\n\n\n\n 
URL:https://silverspringvillage.org/calendar/chess/2026-04-09/
CATEGORIES:Recreational,Social
ATTACH;FMTTYPE=image/png:https://silverspringvillage.org/wp-content/uploads/2025/06/31.png
END:VEVENT
BEGIN:VEVENT
DTSTART;TZID=America/New_York:20260408T100000
DTEND;TZID=America/New_York:20260408T113000
DTSTAMP:20260423T171528
CREATED:20260216T161441Z
LAST-MODIFIED:20260216T161441Z
UID:10007781-1775642400-1775647800@silverspringvillage.org
SUMMARY:Walk in Sligo Park
DESCRIPTION:We’re getting out together\, taking weekly walks in Sligo Creek Park!  Weather permitting\, we’ll meet Wednesday mornings at 10:00 at locations which will be announced by email one or two days ahead of the walk. The walks will typically be 2 to 3 miles round-trip. \nSee you there! \nFor further members-only details or to register\, log into your member account and visit the Calendar page.
URL:https://silverspringvillage.org/calendar/walk-in-sligo-park-2/2026-04-08/
CATEGORIES:Recreational,Social
ATTACH;FMTTYPE=image/png:https://silverspringvillage.org/wp-content/uploads/2025/06/19.png
END:VEVENT
BEGIN:VEVENT
DTSTART;TZID=America/New_York:20260407T140000
DTEND;TZID=America/New_York:20260407T160000
DTSTAMP:20260423T171528
CREATED:20251022T152310Z
LAST-MODIFIED:20260126T181646Z
UID:10000933-1775570400-1775577600@silverspringvillage.org
SUMMARY:Bridge
DESCRIPTION:Friendly game with experienced but not cut-throat players. Perfect if you played in college and want to get back into it. From one to three games per week depending on player availability; locations depend on who’s playing. Weekly schedule is usually finalized every Friday. \nFor further members-only details or to register\, log into your member account and visit the Calendar page. \n  \n 
URL:https://silverspringvillage.org/calendar/bridge-2-2-2/2026-04-07/
CATEGORIES:Recreational,Social
ATTACH;FMTTYPE=image/png:https://silverspringvillage.org/wp-content/uploads/2025/10/Bridge-Game-2-1.png
END:VEVENT
BEGIN:VEVENT
DTSTART;TZID=America/New_York:20260407T130000
DTEND;TZID=America/New_York:20260407T160000
DTSTAMP:20260423T171528
CREATED:20240728T151644Z
LAST-MODIFIED:20250619T174558Z
UID:10000672-1775566800-1775577600@silverspringvillage.org
SUMMARY:Canasta
DESCRIPTION:The Silver Spring Village Canasta Club will meet in person every Tuesday from 1:00 to 4:00 pm. \nThe club is open to players at all levels including beginning.  New members are actively being sought. \nFor further members-only details or to register\, log into your member account and visit the Calendar page. \n 
URL:https://silverspringvillage.org/calendar/canasta/2026-04-07/
CATEGORIES:Recreational,Social
ATTACH;FMTTYPE=image/png:https://silverspringvillage.org/wp-content/uploads/2025/06/26.png
END:VEVENT
BEGIN:VEVENT
DTSTART;TZID=America/New_York:20260406T150000
DTEND;TZID=America/New_York:20260406T170000
DTSTAMP:20260423T171528
CREATED:20240728T150430Z
LAST-MODIFIED:20250619T174644Z
UID:10000351-1775487600-1775494800@silverspringvillage.org
SUMMARY:Scrabble
DESCRIPTION:Join fellow word lovers every Monday\, 3-5 p.m. at for a friendly game of Scrabble at one of our favorite neighborhood restaurants. Enjoy great food\, good company\, and a little wordplay—no experience necessary! Come for the game\, stay for the laughs.  Attendees pay for their own charges. \n\n\nFor members-only details or to register\, log into your member account and visit the Calendar page.Considering Village membership and want to sample an event? Call our Operations Manager at 240-307-4132.\n\n\n 
URL:https://silverspringvillage.org/calendar/scrabble/2026-04-06/
CATEGORIES:Recreational,Social
ATTACH;FMTTYPE=image/png:https://silverspringvillage.org/wp-content/uploads/2025/06/21.png
END:VEVENT
BEGIN:VEVENT
DTSTART;TZID=America/New_York:20260406T140000
DTEND;TZID=America/New_York:20260406T160000
DTSTAMP:20260423T171528
CREATED:20251022T152310Z
LAST-MODIFIED:20260126T181646Z
UID:10000090-1775484000-1775491200@silverspringvillage.org
SUMMARY:Bridge
DESCRIPTION:Friendly game with experienced but not cut-throat players. Perfect if you played in college and want to get back into it. From one to three games per week depending on player availability; locations depend on who’s playing. Weekly schedule is usually finalized every Friday. \nFor further members-only details or to register\, log into your member account and visit the Calendar page. \n  \n 
URL:https://silverspringvillage.org/calendar/bridge-2-2-2/2026-04-06/
CATEGORIES:Recreational,Social
ATTACH;FMTTYPE=image/png:https://silverspringvillage.org/wp-content/uploads/2025/10/Bridge-Game-2-1.png
END:VEVENT
BEGIN:VEVENT
DTSTART;TZID=America/New_York:20260403T140000
DTEND;TZID=America/New_York:20260403T160000
DTSTAMP:20260423T171528
CREATED:20251022T152310Z
LAST-MODIFIED:20260126T181646Z
UID:10003843-1775224800-1775232000@silverspringvillage.org
SUMMARY:Bridge
DESCRIPTION:Friendly game with experienced but not cut-throat players. Perfect if you played in college and want to get back into it. From one to three games per week depending on player availability; locations depend on who’s playing. Weekly schedule is usually finalized every Friday. \nFor further members-only details or to register\, log into your member account and visit the Calendar page. \n  \n 
URL:https://silverspringvillage.org/calendar/bridge-2-2-2/2026-04-03/
CATEGORIES:Recreational,Social
ATTACH;FMTTYPE=image/png:https://silverspringvillage.org/wp-content/uploads/2025/10/Bridge-Game-2-1.png
END:VEVENT
BEGIN:VEVENT
DTSTART;TZID=America/New_York:20260403T130000
DTEND;TZID=America/New_York:20260403T160000
DTSTAMP:20260423T171528
CREATED:20251022T155743Z
LAST-MODIFIED:20251022T155743Z
UID:10003582-1775221200-1775232000@silverspringvillage.org
SUMMARY:Mahjongg
DESCRIPTION:There’s a weekly Village mahjongg game\, every Friday at 1 to 4pm in a member’s home. For further members-only details or to register\, log into your member account and visit the Calendar page. \nExperienced players only\, please. \n\n\n\n\n\n\n\n 
URL:https://silverspringvillage.org/calendar/mahjongg-2/2026-04-03/
CATEGORIES:Recreational,Social
ATTACH;FMTTYPE=image/png:https://silverspringvillage.org/wp-content/uploads/2025/06/27.png
END:VEVENT
END:VCALENDAR