BEGIN:VCALENDAR
VERSION:2.0
PRODID:-//Silver Spring Village - ECPv6.15.20//NONSGML v1.0//EN
CALSCALE:GREGORIAN
METHOD:PUBLISH
X-ORIGINAL-URL:https://silverspringvillage.org
X-WR-CALDESC:Events for Silver Spring Village
REFRESH-INTERVAL;VALUE=DURATION:PT1H
X-Robots-Tag:noindex
X-PUBLISHED-TTL:PT1H
BEGIN:VTIMEZONE
TZID:America/New_York
BEGIN:DAYLIGHT
TZOFFSETFROM:-0500
TZOFFSETTO:-0400
TZNAME:EDT
DTSTART:20240310T070000
END:DAYLIGHT
BEGIN:STANDARD
TZOFFSETFROM:-0400
TZOFFSETTO:-0500
TZNAME:EST
DTSTART:20241103T060000
END:STANDARD
BEGIN:DAYLIGHT
TZOFFSETFROM:-0500
TZOFFSETTO:-0400
TZNAME:EDT
DTSTART:20250309T070000
END:DAYLIGHT
BEGIN:STANDARD
TZOFFSETFROM:-0400
TZOFFSETTO:-0500
TZNAME:EST
DTSTART:20251102T060000
END:STANDARD
BEGIN:DAYLIGHT
TZOFFSETFROM:-0500
TZOFFSETTO:-0400
TZNAME:EDT
DTSTART:20260308T070000
END:DAYLIGHT
BEGIN:STANDARD
TZOFFSETFROM:-0400
TZOFFSETTO:-0500
TZNAME:EST
DTSTART:20261101T060000
END:STANDARD
END:VTIMEZONE
BEGIN:VEVENT
DTSTART;TZID=America/New_York:20250805T100000
DTEND;TZID=America/New_York:20250805T113000
DTSTAMP:20260425T231919
CREATED:20240728T161813Z
LAST-MODIFIED:20251112T215337Z
UID:10009873-1754388000-1754393400@silverspringvillage.org
SUMMARY:Write-On Memoir Group
DESCRIPTION:The Write-On Memoir Group brings together people who want to capture and share memorable parts of their lives through writing. The current group is full\, but another can be formed if there’s sufficient interest and a volunteer leader steps forward. \n\n\n\nFor further members-only details or to register\, log into the Member Portal and visit the Calendar page.\n\n\n\n 
URL:https://silverspringvillage.org/calendar/write-on-memoir-writing/2025-08-05/
LOCATION:MD
CATEGORIES:Social,Virtual Event
ATTACH;FMTTYPE=image/png:https://silverspringvillage.org/wp-content/uploads/2025/06/18.png
END:VEVENT
BEGIN:VEVENT
DTSTART;TZID=America/New_York:20250805T130000
DTEND;TZID=America/New_York:20250805T160000
DTSTAMP:20260425T231919
CREATED:20240728T151644Z
LAST-MODIFIED:20250619T174558Z
UID:10000637-1754398800-1754409600@silverspringvillage.org
SUMMARY:Canasta
DESCRIPTION:The Silver Spring Village Canasta Club will meet in person every Tuesday from 1:00 to 4:00 pm. \nThe club is open to players at all levels including beginning.  New members are actively being sought. \nFor further members-only details or to register\, log into your member account and visit the Calendar page. \n 
URL:https://silverspringvillage.org/calendar/canasta/2025-08-05/
LOCATION:MD
CATEGORIES:Recreational,Social
ATTACH;FMTTYPE=image/png:https://silverspringvillage.org/wp-content/uploads/2025/06/26.png
END:VEVENT
END:VCALENDAR