BEGIN:VCALENDAR
VERSION:2.0
PRODID:-//Silver Spring Village - ECPv6.15.20//NONSGML v1.0//EN
CALSCALE:GREGORIAN
METHOD:PUBLISH
X-ORIGINAL-URL:https://silverspringvillage.org
X-WR-CALDESC:Events for Silver Spring Village
REFRESH-INTERVAL;VALUE=DURATION:PT1H
X-Robots-Tag:noindex
X-PUBLISHED-TTL:PT1H
BEGIN:VTIMEZONE
TZID:America/New_York
BEGIN:DAYLIGHT
TZOFFSETFROM:-0500
TZOFFSETTO:-0400
TZNAME:EDT
DTSTART:20240310T070000
END:DAYLIGHT
BEGIN:STANDARD
TZOFFSETFROM:-0400
TZOFFSETTO:-0500
TZNAME:EST
DTSTART:20241103T060000
END:STANDARD
BEGIN:DAYLIGHT
TZOFFSETFROM:-0500
TZOFFSETTO:-0400
TZNAME:EDT
DTSTART:20250309T070000
END:DAYLIGHT
BEGIN:STANDARD
TZOFFSETFROM:-0400
TZOFFSETTO:-0500
TZNAME:EST
DTSTART:20251102T060000
END:STANDARD
BEGIN:DAYLIGHT
TZOFFSETFROM:-0500
TZOFFSETTO:-0400
TZNAME:EDT
DTSTART:20260308T070000
END:DAYLIGHT
BEGIN:STANDARD
TZOFFSETFROM:-0400
TZOFFSETTO:-0500
TZNAME:EST
DTSTART:20261101T060000
END:STANDARD
END:VTIMEZONE
BEGIN:VEVENT
DTSTART;TZID=America/New_York:20250828T113000
DTEND;TZID=America/New_York:20250828T140000
DTSTAMP:20260425T231919
CREATED:20240728T155658Z
LAST-MODIFIED:20251113T182941Z
UID:10002066-1756380600-1756389600@silverspringvillage.org
SUMMARY:Chess
DESCRIPTION:Every Thursday at 11:30\, members will get together for lunch and to play chess at a local restaurant. For further members-only details or to register\, log into your member account and visit the Calendar page. \n\n\n\n\n\nAttendees pay for their own charges\n\n\n\n\n\n\n 
URL:https://silverspringvillage.org/calendar/chess/2025-08-28/
LOCATION:MD
CATEGORIES:Recreational,Social
ATTACH;FMTTYPE=image/png:https://silverspringvillage.org/wp-content/uploads/2025/06/31.png
END:VEVENT
BEGIN:VEVENT
DTSTART;TZID=America/New_York:20250828T130000
DTEND;TZID=America/New_York:20250828T160000
DTSTAMP:20260425T231919
CREATED:20240728T160132Z
LAST-MODIFIED:20250619T174246Z
UID:10002848-1756386000-1756396800@silverspringvillage.org
SUMMARY:Rummikub (in person)
DESCRIPTION:Build your circle of friends  by playing this game that is easy to learn and fast moving combining tactical thinking\, luck\, and competition.  We will play the 1st\, 2nd\, and 4th Thursdays of each month from 1 to 4pm at Cynna Janus’s house. Beginners are welcome. For further members-only details or to register\, log into your member account and visit the Calendar page. \n\n\n\n\n\n\n\n 
URL:https://silverspringvillage.org/calendar/rummikub-in-person/2025-08-28/
LOCATION:MD
CATEGORIES:Recreational,Social
ATTACH;FMTTYPE=image/png:https://silverspringvillage.org/wp-content/uploads/2025/06/30.png
END:VEVENT
BEGIN:VEVENT
DTSTART;TZID=America/New_York:20250828T140000
DTEND;TZID=America/New_York:20250828T153000
DTSTAMP:20260425T231919
CREATED:20250813T210409Z
LAST-MODIFIED:20250813T210635Z
UID:10008080-1756389600-1756395000@silverspringvillage.org
SUMMARY:Village Book Club at Charles McGee Library
DESCRIPTION:All are welcome to join Silver Spring Village’s in-person book club which meets on the fourth Thursday of each month at 2:00 at the Brig. General Charles McGee Library at 900 Wayne Avenue. \nThe August book is The Bandit Queens by Parini Sheriff.  Geeta’s no good husband disappeared five years ago. She didn’t kill him\, but everyone thinks she did–no matter how much she protests. But she soon discovers that being known as a “self-made” widow has some surprising perks. It’s even been good for her business. Soon other women in the village have start asking for her help to get rid of their husbands . . . but not all of them are asking nicely. \n 
URL:https://silverspringvillage.org/calendar/village-book-club-at-charles-mcgee-library-10/
LOCATION:Charles McGee Library\, 900 Wayne Ave\, Silver Spring\, MD\, 20910\, United States
CATEGORIES:Cultural,Social
ATTACH;FMTTYPE=image/png:https://silverspringvillage.org/wp-content/uploads/2025/06/17.png
END:VEVENT
END:VCALENDAR