BEGIN:VCALENDAR
VERSION:2.0
PRODID:-//Silver Spring Village - ECPv6.15.20//NONSGML v1.0//EN
CALSCALE:GREGORIAN
METHOD:PUBLISH
X-WR-CALNAME:Silver Spring Village
X-ORIGINAL-URL:https://silverspringvillage.org
X-WR-CALDESC:Events for Silver Spring Village
REFRESH-INTERVAL;VALUE=DURATION:PT1H
X-Robots-Tag:noindex
X-PUBLISHED-TTL:PT1H
BEGIN:VTIMEZONE
TZID:America/New_York
BEGIN:DAYLIGHT
TZOFFSETFROM:-0500
TZOFFSETTO:-0400
TZNAME:EDT
DTSTART:20240310T070000
END:DAYLIGHT
BEGIN:STANDARD
TZOFFSETFROM:-0400
TZOFFSETTO:-0500
TZNAME:EST
DTSTART:20241103T060000
END:STANDARD
BEGIN:DAYLIGHT
TZOFFSETFROM:-0500
TZOFFSETTO:-0400
TZNAME:EDT
DTSTART:20250309T070000
END:DAYLIGHT
BEGIN:STANDARD
TZOFFSETFROM:-0400
TZOFFSETTO:-0500
TZNAME:EST
DTSTART:20251102T060000
END:STANDARD
BEGIN:DAYLIGHT
TZOFFSETFROM:-0500
TZOFFSETTO:-0400
TZNAME:EDT
DTSTART:20260308T070000
END:DAYLIGHT
BEGIN:STANDARD
TZOFFSETFROM:-0400
TZOFFSETTO:-0500
TZNAME:EST
DTSTART:20261101T060000
END:STANDARD
END:VTIMEZONE
BEGIN:VEVENT
DTSTART;TZID=America/New_York:20250905T100000
DTEND;TZID=America/New_York:20250905T113000
DTSTAMP:20260425T220330
CREATED:20240728T161813Z
LAST-MODIFIED:20251112T215337Z
UID:10009874-1757066400-1757071800@silverspringvillage.org
SUMMARY:Write-On Memoir Group
DESCRIPTION:The Write-On Memoir Group brings together people who want to capture and share memorable parts of their lives through writing. The current group is full\, but another can be formed if there’s sufficient interest and a volunteer leader steps forward. \n\n\n\nFor further members-only details or to register\, log into the Member Portal and visit the Calendar page.\n\n\n\n 
URL:https://silverspringvillage.org/calendar/write-on-memoir-writing/2025-09-05/
LOCATION:MD
CATEGORIES:Social,Virtual Event
ATTACH;FMTTYPE=image/png:https://silverspringvillage.org/wp-content/uploads/2025/06/18.png
END:VEVENT
BEGIN:VEVENT
DTSTART;TZID=America/New_York:20250905T130000
DTEND;TZID=America/New_York:20250905T160000
DTSTAMP:20260425T220330
CREATED:20240728T161344Z
LAST-MODIFIED:20250619T174156Z
UID:10003552-1757077200-1757088000@silverspringvillage.org
SUMMARY:Mahjongg
DESCRIPTION:There’s a weekly Village mahjongg game\, every Friday at 1 to 4pm in a member’s home. For further members-only details or to register\, log into your member account and visit the Calendar page. \nExperienced players only\, please. \n\n\n\n\n\n\n\n 
URL:https://silverspringvillage.org/calendar/mahjongg/2025-09-05/
LOCATION:MD
CATEGORIES:Recreational,Social
ATTACH;FMTTYPE=image/png:https://silverspringvillage.org/wp-content/uploads/2025/06/27.png
END:VEVENT
BEGIN:VEVENT
DTSTART;TZID=America/New_York:20250905T140000
DTEND;TZID=America/New_York:20250905T160000
DTSTAMP:20260425T220330
CREATED:20250815T191525Z
LAST-MODIFIED:20251022T152203Z
UID:10003813-1757080800-1757088000@silverspringvillage.org
SUMMARY:Bridge
DESCRIPTION:Friendly game with experienced but not cut-throat players. Perfect if you played in college and want to get back into it. From one to three games per week depending on player availability; locations depend on who’s playing. Weekly schedule is usually finalized every Friday. \nFor further members-only details or to register\, log into your member account and visit the Calendar page. \n  \n 
URL:https://silverspringvillage.org/calendar/bridge-2-2/2025-09-05/
LOCATION:MD
CATEGORIES:Recreational,Social
ATTACH;FMTTYPE=image/png:https://silverspringvillage.org/wp-content/uploads/2024/07/Bridge-Game-e1755285401446.png
END:VEVENT
END:VCALENDAR