BEGIN:VCALENDAR
VERSION:2.0
PRODID:-//Silver Spring Village - ECPv6.15.20//NONSGML v1.0//EN
CALSCALE:GREGORIAN
METHOD:PUBLISH
X-WR-CALNAME:Silver Spring Village
X-ORIGINAL-URL:https://silverspringvillage.org
X-WR-CALDESC:Events for Silver Spring Village
REFRESH-INTERVAL;VALUE=DURATION:PT1H
X-Robots-Tag:noindex
X-PUBLISHED-TTL:PT1H
BEGIN:VTIMEZONE
TZID:America/New_York
BEGIN:DAYLIGHT
TZOFFSETFROM:-0500
TZOFFSETTO:-0400
TZNAME:EDT
DTSTART:20250309T070000
END:DAYLIGHT
BEGIN:STANDARD
TZOFFSETFROM:-0400
TZOFFSETTO:-0500
TZNAME:EST
DTSTART:20251102T060000
END:STANDARD
BEGIN:DAYLIGHT
TZOFFSETFROM:-0500
TZOFFSETTO:-0400
TZNAME:EDT
DTSTART:20260308T070000
END:DAYLIGHT
BEGIN:STANDARD
TZOFFSETFROM:-0400
TZOFFSETTO:-0500
TZNAME:EST
DTSTART:20261101T060000
END:STANDARD
BEGIN:DAYLIGHT
TZOFFSETFROM:-0500
TZOFFSETTO:-0400
TZNAME:EDT
DTSTART:20270314T070000
END:DAYLIGHT
BEGIN:STANDARD
TZOFFSETFROM:-0400
TZOFFSETTO:-0500
TZNAME:EST
DTSTART:20271107T060000
END:STANDARD
END:VTIMEZONE
BEGIN:VEVENT
DTSTART;TZID=America/New_York:20260501T130000
DTEND;TZID=America/New_York:20260501T160000
DTSTAMP:20260423T171554
CREATED:20251022T155743Z
LAST-MODIFIED:20251022T155743Z
UID:10003586-1777640400-1777651200@silverspringvillage.org
SUMMARY:Mahjongg
DESCRIPTION:There’s a weekly Village mahjongg game\, every Friday at 1 to 4pm in a member’s home. For further members-only details or to register\, log into your member account and visit the Calendar page. \nExperienced players only\, please. \n\n\n\n\n\n\n\n 
URL:https://silverspringvillage.org/calendar/mahjongg-2/2026-05-01/
LOCATION:MD
CATEGORIES:Recreational,Social
ATTACH;FMTTYPE=image/png:https://silverspringvillage.org/wp-content/uploads/2025/06/27.png
END:VEVENT
BEGIN:VEVENT
DTSTART;TZID=America/New_York:20260501T140000
DTEND;TZID=America/New_York:20260501T160000
DTSTAMP:20260423T171554
CREATED:20251022T152310Z
LAST-MODIFIED:20260126T181646Z
UID:10003847-1777644000-1777651200@silverspringvillage.org
SUMMARY:Bridge
DESCRIPTION:Friendly game with experienced but not cut-throat players. Perfect if you played in college and want to get back into it. From one to three games per week depending on player availability; locations depend on who’s playing. Weekly schedule is usually finalized every Friday. \nFor further members-only details or to register\, log into your member account and visit the Calendar page. \n  \n 
URL:https://silverspringvillage.org/calendar/bridge-2-2-2/2026-05-01/
LOCATION:MD
CATEGORIES:Recreational,Social
ATTACH;FMTTYPE=image/png:https://silverspringvillage.org/wp-content/uploads/2025/10/Bridge-Game-2-1.png
END:VEVENT
END:VCALENDAR