BEGIN:VCALENDAR
VERSION:2.0
PRODID:-//Silver Spring Village - ECPv6.15.20//NONSGML v1.0//EN
CALSCALE:GREGORIAN
METHOD:PUBLISH
X-WR-CALNAME:Silver Spring Village
X-ORIGINAL-URL:https://silverspringvillage.org
X-WR-CALDESC:Events for Silver Spring Village
REFRESH-INTERVAL;VALUE=DURATION:PT1H
X-Robots-Tag:noindex
X-PUBLISHED-TTL:PT1H
BEGIN:VTIMEZONE
TZID:America/New_York
BEGIN:DAYLIGHT
TZOFFSETFROM:-0500
TZOFFSETTO:-0400
TZNAME:EDT
DTSTART:20230312T070000
END:DAYLIGHT
BEGIN:STANDARD
TZOFFSETFROM:-0400
TZOFFSETTO:-0500
TZNAME:EST
DTSTART:20231105T060000
END:STANDARD
BEGIN:DAYLIGHT
TZOFFSETFROM:-0500
TZOFFSETTO:-0400
TZNAME:EDT
DTSTART:20240310T070000
END:DAYLIGHT
BEGIN:STANDARD
TZOFFSETFROM:-0400
TZOFFSETTO:-0500
TZNAME:EST
DTSTART:20241103T060000
END:STANDARD
BEGIN:DAYLIGHT
TZOFFSETFROM:-0500
TZOFFSETTO:-0400
TZNAME:EDT
DTSTART:20250309T070000
END:DAYLIGHT
BEGIN:STANDARD
TZOFFSETFROM:-0400
TZOFFSETTO:-0500
TZNAME:EST
DTSTART:20251102T060000
END:STANDARD
END:VTIMEZONE
BEGIN:VEVENT
DTSTART;TZID=America/New_York:20240731T181500
DTEND;TZID=America/New_York:20240731T213000
DTSTAMP:20260420T090312
CREATED:20240728T155240Z
LAST-MODIFIED:20250619T174407Z
UID:10001749-1722449700-1722461400@silverspringvillage.org
SUMMARY:Metropolitan Opera on Screen
DESCRIPTION:Rossini’s charming take on the Cinderella story returns to cinemas\, starring mezzo-soprano Joyce DiDonato and tenor Juan Diego Flórez in this 2014 performance of Cesare Lievi’s whimsical production. Fabio Luisi conducts. \nAt the Majestic 20 Theatres\, 900 Ellsworth Drive (at Fenton St.) on Wednesday July 31. \nYou may purchase your ticket at the box office or in advance on the REGAL app or website. \nRSVPs are strongly encouraged\, so our group host will know who to expect. \n\n\nAttendees pay for their own charges\n\n\n\n\nFor further members-only details or to register\, log into your member account and visit the Calendar page.
URL:https://silverspringvillage.org/calendar/metropolitan-opera/2024-07-31/
LOCATION:Majestic 20 Theatres\, 900 Ellsworth Drive\, Silver Spring\, MD\, 20910\, United States
CATEGORIES:Cultural,Social
ATTACH;FMTTYPE=image/png:https://silverspringvillage.org/wp-content/uploads/2025/06/24.png
END:VEVENT
BEGIN:VEVENT
DTSTART;TZID=America/New_York:20240731T160000
DTEND;TZID=America/New_York:20240731T180000
DTSTAMP:20260420T090312
CREATED:20240728T153826Z
LAST-MODIFIED:20250619T174425Z
UID:10001488-1722441600-1722448800@silverspringvillage.org
SUMMARY:Rummikub Game via Zoom and Rummikub App
DESCRIPTION:Easy to learn and constantly keeps you on your toes!! Come join us on Zoom and the Rummikub App.\nYou will need the following: \n\nThe Original Rummikub app – by Kinkajoo (Its icon is the black Joker-face tile)\n\nYou will need to download the app to an iPad\, iPhone\, Android phone or Android tablet to play. (NOTE: the app is not available on Windows computers). \nWhen you create your Player Name on the app\, we recommend that you start your name with SSV\, so all our SSV players will be easy to find. (For example: my name is SSVCecilia) \n\nA Facebook account to connect to other SSV players. – All SSV players will have to friend each other on Facebook\nWe highly recommend a separate device to access the Zoom.\n\nWe plan to all get together via Zoom\, starting at 4 pm on Wednesdays. Then we’ll go into separate Zoom -Break Out Rooms for each group (of 2\, 3 or 4 players) depending on who is present and want to play together. We typically keep the Zoom going so we can talk while we’re playing; more experienced players can give guidance\, etc. \nPlease sign up ASAP. Deadline for registering is the day before the game. Must email Cecilia (see above) – Subject: FREE SSV Rummikub Zoom – with your email address and name.
URL:https://silverspringvillage.org/calendar/rummikub-game-via-zoom-and-rummikub-app/2024-07-31/
CATEGORIES:Social,Virtual Event
ATTACH;FMTTYPE=image/png:https://silverspringvillage.org/wp-content/uploads/2025/06/30.png
LOCATION:https://silverspringvillage.org/calendar/rummikub-game-via-zoom-and-rummikub-app/2024-07-31/
END:VEVENT
BEGIN:VEVENT
DTSTART;TZID=America/New_York:20240731T160000
DTEND;TZID=America/New_York:20240731T173000
DTSTAMP:20260420T090312
CREATED:20240728T153557Z
LAST-MODIFIED:20251021T175336Z
UID:10001427-1722441600-1722447000@silverspringvillage.org
SUMMARY:Playwriting Group
DESCRIPTION:Have you ever thought about writing plays? Well\, the Village is getting member-playwrights together to exchange ideas. Normally the Playwrights meet via Zoom on the last Wednesday of the month at 4:00 in person. \nFor further members-only details or to register\, log into your member account and visit the Calendar page.
URL:https://silverspringvillage.org/calendar/playwriting-group/2024-07-31/
CATEGORIES:Social,Virtual Event
ATTACH;FMTTYPE=image/png:https://silverspringvillage.org/wp-content/uploads/2025/06/23.png
LOCATION:https://silverspringvillage.org/calendar/playwriting-group/2024-07-31/
END:VEVENT
BEGIN:VEVENT
DTSTART;TZID=America/New_York:20240731T100000
DTEND;TZID=America/New_York:20240731T113000
DTSTAMP:20260420T090312
CREATED:20240728T153324Z
LAST-MODIFIED:20250708T214323Z
UID:10007693-1722420000-1722425400@silverspringvillage.org
SUMMARY:Walk in Sligo Park
DESCRIPTION:We’re getting out together\, taking weekly walks in Sligo Creek Park!  Weather permitting\, we’ll meet Wednesday mornings at 10:00 at locations which will be announced by email one or two days ahead of the walk. The walks will typically be 2 to 3 miles round-trip. \nSee you there! \nFor further members-only details or to register\, log into your member account and visit the Calendar page.
URL:https://silverspringvillage.org/calendar/walk-in-sligo-park/2024-07-31/
CATEGORIES:Recreational,Social
ATTACH;FMTTYPE=image/png:https://silverspringvillage.org/wp-content/uploads/2025/06/19.png
END:VEVENT
BEGIN:VEVENT
DTSTART;TZID=America/New_York:20240730T163000
DTEND;TZID=America/New_York:20240730T180000
DTSTAMP:20260420T090312
CREATED:20240728T152141Z
LAST-MODIFIED:20250619T174525Z
UID:10001106-1722357000-1722362400@silverspringvillage.org
SUMMARY:Mindfulness
DESCRIPTION:Mindfulness is the ability to be consciously aware of the present moment in a way that enables an individual to choose actions that cultivate inner calm and emotional balance.  In our sessions of guided meditation you will learn to be more aware of your thoughts\, emotions\, and environment in a nonjudgmental way by staying in the present.\n\nThe sessions will be held at the home of a member at 4:30\, usually on the last Tuesday of each month .  The group will be limited in size so it will be important to register beforehand.\nFor further members-only details or to register\, log into your member account and visit the Calendar page. \n 
URL:https://silverspringvillage.org/calendar/mindfulness/2024-07-30/
LOCATION:Marilyn’s Home\, Silver Spring\, MD\, 20910\, United States
CATEGORIES:Educational,Interest Group
ATTACH;FMTTYPE=image/png:https://silverspringvillage.org/wp-content/uploads/2025/06/1.png
END:VEVENT
BEGIN:VEVENT
DTSTART;TZID=America/New_York:20240730T130000
DTEND;TZID=America/New_York:20240730T160000
DTSTAMP:20260420T090312
CREATED:20240728T151644Z
LAST-MODIFIED:20250619T174558Z
UID:10000584-1722344400-1722355200@silverspringvillage.org
SUMMARY:Canasta
DESCRIPTION:The Silver Spring Village Canasta Club will meet in person every Tuesday from 1:00 to 4:00 pm. \nThe club is open to players at all levels including beginning.  New members are actively being sought. \nFor further members-only details or to register\, log into your member account and visit the Calendar page. \n 
URL:https://silverspringvillage.org/calendar/canasta/2024-07-30/
CATEGORIES:Recreational,Social
ATTACH;FMTTYPE=image/png:https://silverspringvillage.org/wp-content/uploads/2025/06/26.png
END:VEVENT
BEGIN:VEVENT
DTSTART;TZID=America/New_York:20240729T173000
DTEND;TZID=America/New_York:20240729T190000
DTSTAMP:20260420T090312
CREATED:20240728T151428Z
LAST-MODIFIED:20250619T174624Z
UID:10000524-1722274200-1722279600@silverspringvillage.org
SUMMARY:Dinner at Parkway Deli
DESCRIPTION:  \n\n\n\n\nSince we’re back to in-person Scrabble at the Parkway Deli\, we’re back to dinner at Parkway after the Scrabble game on the last Monday afternoon of the month at 5:30pm. You don’t need to have played Scrabble to come to dinner; just show up at 5:30 and find your Village friends. The Parkway Deli is at 8317 Grubb Road\, Silver Spring.\n\n\n\n\n\nFor further members-only details or to register\, log into your member account and visit the Calendar page. \n 
URL:https://silverspringvillage.org/calendar/dinner-at-parkway-deli/2024-07-29/
LOCATION:Parkway Deli\, 8317 Grubb Road\, Silver Spring\, MD\, 20910\, United States
CATEGORIES:Social
ATTACH;FMTTYPE=image/png:https://silverspringvillage.org/wp-content/uploads/2025/06/14.png
END:VEVENT
BEGIN:VEVENT
DTSTART;TZID=America/New_York:20240729T150000
DTEND;TZID=America/New_York:20240729T170000
DTSTAMP:20260420T090312
CREATED:20240728T150430Z
LAST-MODIFIED:20250619T174644Z
UID:10000263-1722265200-1722272400@silverspringvillage.org
SUMMARY:Scrabble
DESCRIPTION:Join fellow word lovers every Monday\, 3-5 p.m. at for a friendly game of Scrabble at one of our favorite neighborhood restaurants. Enjoy great food\, good company\, and a little wordplay—no experience necessary! Come for the game\, stay for the laughs.  Attendees pay for their own charges. \n\n\nFor members-only details or to register\, log into your member account and visit the Calendar page.Considering Village membership and want to sample an event? Call our Operations Manager at 240-307-4132.\n\n\n 
URL:https://silverspringvillage.org/calendar/scrabble/2024-07-29/
CATEGORIES:Recreational,Social
ATTACH;FMTTYPE=image/png:https://silverspringvillage.org/wp-content/uploads/2025/06/21.png
END:VEVENT
END:VCALENDAR