BEGIN:VCALENDAR
VERSION:2.0
PRODID:-//Silver Spring Village - ECPv6.15.20//NONSGML v1.0//EN
CALSCALE:GREGORIAN
METHOD:PUBLISH
X-WR-CALNAME:Silver Spring Village
X-ORIGINAL-URL:https://silverspringvillage.org
X-WR-CALDESC:Events for Silver Spring Village
REFRESH-INTERVAL;VALUE=DURATION:PT1H
X-Robots-Tag:noindex
X-PUBLISHED-TTL:PT1H
BEGIN:VTIMEZONE
TZID:America/New_York
BEGIN:DAYLIGHT
TZOFFSETFROM:-0500
TZOFFSETTO:-0400
TZNAME:EDT
DTSTART:20250309T070000
END:DAYLIGHT
BEGIN:STANDARD
TZOFFSETFROM:-0400
TZOFFSETTO:-0500
TZNAME:EST
DTSTART:20251102T060000
END:STANDARD
BEGIN:DAYLIGHT
TZOFFSETFROM:-0500
TZOFFSETTO:-0400
TZNAME:EDT
DTSTART:20260308T070000
END:DAYLIGHT
BEGIN:STANDARD
TZOFFSETFROM:-0400
TZOFFSETTO:-0500
TZNAME:EST
DTSTART:20261101T060000
END:STANDARD
BEGIN:DAYLIGHT
TZOFFSETFROM:-0500
TZOFFSETTO:-0400
TZNAME:EDT
DTSTART:20270314T070000
END:DAYLIGHT
BEGIN:STANDARD
TZOFFSETFROM:-0400
TZOFFSETTO:-0500
TZNAME:EST
DTSTART:20271107T060000
END:STANDARD
END:VTIMEZONE
BEGIN:VEVENT
DTSTART;TZID=America/New_York:20260322T120000
DTEND;TZID=America/New_York:20260322T140000
DTSTAMP:20260425T175033
CREATED:20260215T230252Z
LAST-MODIFIED:20260215T230425Z
UID:10010595-1774180800-1774188000@silverspringvillage.org
SUMMARY:50th Annual Community Art Show
DESCRIPTION:This long-standing 3-day event features over 450 pieces of original artwork by local artists in categories like Oil\, Acrylic\, Pastel\, Watercolor\, Mixed Media\, Photography\, Prints & Drawings\, and more. Artworks are judged by Dr. Jack Rasmussen\, Director and Curator of the American University Museum at the Katzen Arts Center. Contributions from patrons support scholarships for art students at Montgomery College. \nFor more information\, log in to the Village calendar.
URL:https://silverspringvillage.org/calendar/50th-annual-community-art-show/
LOCATION:Women’s Club of Chevy Chase\, 7931 Connecticut Avenue\, Chevy Chase\, MD\, United States
ATTACH;FMTTYPE=image/png:https://silverspringvillage.org/wp-content/uploads/2025/04/SSV-CalendarPhotos-2.png
END:VEVENT
BEGIN:VEVENT
DTSTART;TZID=America/New_York:20260215T100000
DTEND;TZID=America/New_York:20260215T160000
DTSTAMP:20260425T175033
CREATED:20260122T132715Z
LAST-MODIFIED:20260126T175131Z
UID:10010476-1771149600-1771171200@silverspringvillage.org
SUMMARY:Upscale Resale
DESCRIPTION:Annually\, The Woman’s Club of Chevy Chase hosts a large sale of items donated by its members. Those items include upscale women’s and men’s clothing\, along with household and other items. Items are often sold at pennies on the dollar of their original price\, which can give buyers great bargains. The Woman’s Club will donate the proceeds to charity. \nFree on-site parking. Free to enter the sale. \nWhen you attend\, please identify yourself to the Silver Spring Village member who will be working at the desk of the women’s clothing section.
URL:https://silverspringvillage.org/calendar/upscale-resale/
LOCATION:Women’s Club of Chevy Chase\, 7931 Connecticut Avenue\, Chevy Chase\, MD\, United States
ATTACH;FMTTYPE=image/png:https://silverspringvillage.org/wp-content/uploads/2026/01/Upscale-Resale.png
END:VEVENT
END:VCALENDAR